BEGIN:VCALENDAR
VERSION:2.0
PRODID:-//Plone.org//NONSGML plone.app.event//EN
X-WR-TIMEZONE:Europe/Berlin
BEGIN:VEVENT
SUMMARY:caian talk 23/04/2026 with Sebastian Gluth
DTSTART;TZID=Europe/Berlin:20260423T130000
DTEND;TZID=Europe/Berlin:20260423T140000
DTSTAMP:20260423T205835Z
UID:e610cdfacbe5423fa5d621b18addf0ca@www.caian.uni-bonn.de
CATEGORIES:guest talks,caian talks,guest speaker,events,lecture series
CREATED:20251027T100353Z
DESCRIPTION:Guest talk by Sebastian Gluth (University of Hamburg) on "Unra
 veling the Neural and Computational Principles of Information Integrati
 on in Complex Decisions" \n\nThis talk will present work on the neural a
 nd cognitive mechanisms underlying value-based decisions\, with a focus on
  multi-attribute choices.  \n\nSebastian Gluth is Professor for Cognitive 
 Modelling and Decision Neuroscience in the Department of Psychology at the
  University of Hamburg. His research focuses on understanding the neural a
 nd cognitive mechanisms of value-based decisions in its interplay with oth
 er cognitive functions\, such as attention\, memory\, and learning. Method
 ologically\, he combines cognitive modelling of decision-making and learni
 ng models with behavioral experiments\, eye-tracking\, fMRI and EEG.\n\nHy
 brid event: zoom access via this link https://shorturl.at/qa3Vk\n\nFor mor
 e information on the event\, please contact: Konstantinos Armaos at karmao
 s@uni-bonn.de or Olivier de Vries at odevries@uni-bonn.de.
LAST-MODIFIED:20260409T104058Z
URL:https://www.caian.uni-bonn.de/en/news-events/caian-talk-23-04-2026
END:VEVENT
BEGIN:VTIMEZONE
TZID:Europe/Berlin
X-LIC-LOCATION:Europe/Berlin
BEGIN:DAYLIGHT
DTSTART:20260329T030000
TZNAME:CEST
TZOFFSETFROM:+0100
TZOFFSETTO:+0200
END:DAYLIGHT
END:VTIMEZONE
END:VCALENDAR
